BEGIN:VCALENDAR
VERSION:2.0
PRODID:-//Becker Baptist Church - ECPv6.15.20//NONSGML v1.0//EN
CALSCALE:GREGORIAN
METHOD:PUBLISH
X-WR-CALNAME:Becker Baptist Church
X-ORIGINAL-URL:https://www.beckerbaptist.org
X-WR-CALDESC:Events for Becker Baptist Church
REFRESH-INTERVAL;VALUE=DURATION:PT1H
X-Robots-Tag:noindex
X-PUBLISHED-TTL:PT1H
BEGIN:VTIMEZONE
TZID:America/Chicago
BEGIN:DAYLIGHT
TZOFFSETFROM:-0600
TZOFFSETTO:-0500
TZNAME:CDT
DTSTART:20290311T080000
END:DAYLIGHT
BEGIN:STANDARD
TZOFFSETFROM:-0500
TZOFFSETTO:-0600
TZNAME:CST
DTSTART:20291104T070000
END:STANDARD
BEGIN:DAYLIGHT
TZOFFSETFROM:-0600
TZOFFSETTO:-0500
TZNAME:CDT
DTSTART:20300310T080000
END:DAYLIGHT
BEGIN:STANDARD
TZOFFSETFROM:-0500
TZOFFSETTO:-0600
TZNAME:CST
DTSTART:20301103T070000
END:STANDARD
BEGIN:DAYLIGHT
TZOFFSETFROM:-0600
TZOFFSETTO:-0500
TZNAME:CDT
DTSTART:20310309T080000
END:DAYLIGHT
BEGIN:STANDARD
TZOFFSETFROM:-0500
TZOFFSETTO:-0600
TZNAME:CST
DTSTART:20311102T070000
END:STANDARD
END:VTIMEZONE
BEGIN:VEVENT
DTSTART;TZID=America/Chicago:20300505T103000
DTEND;TZID=America/Chicago:20300505T113000
DTSTAMP:20260419T072115
CREATED:20240814T194656Z
LAST-MODIFIED:20250206T203453Z
UID:10020766-1904207400-1904211000@www.beckerbaptist.org
SUMMARY:WORSHIP SERVICE
DESCRIPTION:Children’s Church (age 4 – 2nd grade) meets concurrently in Room #127\, except on the first Sunday of the month\, “Family Sunday” when families worship together in the sanctuary.  Nursery is available every Sunday.
URL:https://www.beckerbaptist.org/event/worship-service-2-3/2030-05-05/
LOCATION:Sanctuary
END:VEVENT
BEGIN:VEVENT
DTSTART;TZID=America/Chicago:20300509T190000
DTEND;TZID=America/Chicago:20300509T200000
DTSTAMP:20260419T072115
CREATED:20251219T004106Z
LAST-MODIFIED:20251219T004107Z
UID:10020768-1904583600-1904587200@www.beckerbaptist.org
SUMMARY:Men's Bible Study
DESCRIPTION:Study with us every other Thursday at 7pm in Room #218 (just off the foyer). \nNo study guide needed — just bring your Bible!
URL:https://www.beckerbaptist.org/event/mens-bible-study-2/2030-05-09/
LOCATION:#218 (“Library”)
END:VEVENT
BEGIN:VEVENT
DTSTART;TZID=America/Chicago:20300512T103000
DTEND;TZID=America/Chicago:20300512T113000
DTSTAMP:20260419T072115
CREATED:20240814T194656Z
LAST-MODIFIED:20250206T203453Z
UID:10020770-1904812200-1904815800@www.beckerbaptist.org
SUMMARY:WORSHIP SERVICE
DESCRIPTION:Children’s Church (age 4 – 2nd grade) meets concurrently in Room #127\, except on the first Sunday of the month\, “Family Sunday” when families worship together in the sanctuary.  Nursery is available every Sunday.
URL:https://www.beckerbaptist.org/event/worship-service-2-3/2030-05-12/
LOCATION:Sanctuary
END:VEVENT
BEGIN:VEVENT
DTSTART;TZID=America/Chicago:20300519T103000
DTEND;TZID=America/Chicago:20300519T113000
DTSTAMP:20260419T072115
CREATED:20240814T194656Z
LAST-MODIFIED:20250206T203453Z
UID:10020776-1905417000-1905420600@www.beckerbaptist.org
SUMMARY:WORSHIP SERVICE
DESCRIPTION:Children’s Church (age 4 – 2nd grade) meets concurrently in Room #127\, except on the first Sunday of the month\, “Family Sunday” when families worship together in the sanctuary.  Nursery is available every Sunday.
URL:https://www.beckerbaptist.org/event/worship-service-2-3/2030-05-19/
LOCATION:Sanctuary
END:VEVENT
BEGIN:VEVENT
DTSTART;TZID=America/Chicago:20300523T190000
DTEND;TZID=America/Chicago:20300523T200000
DTSTAMP:20260419T072115
CREATED:20251219T004106Z
LAST-MODIFIED:20251219T004107Z
UID:10020778-1905793200-1905796800@www.beckerbaptist.org
SUMMARY:Men's Bible Study
DESCRIPTION:Study with us every other Thursday at 7pm in Room #218 (just off the foyer). \nNo study guide needed — just bring your Bible!
URL:https://www.beckerbaptist.org/event/mens-bible-study-2/2030-05-23/
LOCATION:#218 (“Library”)
END:VEVENT
BEGIN:VEVENT
DTSTART;TZID=America/Chicago:20300526T103000
DTEND;TZID=America/Chicago:20300526T113000
DTSTAMP:20260419T072115
CREATED:20240814T194656Z
LAST-MODIFIED:20250206T203453Z
UID:10020779-1906021800-1906025400@www.beckerbaptist.org
SUMMARY:WORSHIP SERVICE
DESCRIPTION:Children’s Church (age 4 – 2nd grade) meets concurrently in Room #127\, except on the first Sunday of the month\, “Family Sunday” when families worship together in the sanctuary.  Nursery is available every Sunday.
URL:https://www.beckerbaptist.org/event/worship-service-2-3/2030-05-26/
LOCATION:Sanctuary
END:VEVENT
BEGIN:VEVENT
DTSTART;TZID=America/Chicago:20300527T080000
DTEND;TZID=America/Chicago:20300527T170000
DTSTAMP:20260419T072115
CREATED:20250119T164228Z
LAST-MODIFIED:20251207T170718Z
UID:10020840-1906099200-1906131600@www.beckerbaptist.org
SUMMARY:Becker Baptist Friends
DESCRIPTION:We spend time with our senior friends at Woodbriar Apartments in Becker with stories\, devotions\, music\, refreshments & crafts. All ages are welcome! We typically meet on the 4th Monday of each month at 2PM. Contact: Denise Chung at (763) 913-6987.
URL:https://www.beckerbaptist.org/event/becker-baptist-friends/2030-05-27/
LOCATION:Woodbriar Apts.
END:VEVENT
END:VCALENDAR