BEGIN:VCALENDAR
VERSION:2.0
PRODID:-//Becker Baptist Church - ECPv6.15.20//NONSGML v1.0//EN
CALSCALE:GREGORIAN
METHOD:PUBLISH
X-WR-CALNAME:Becker Baptist Church
X-ORIGINAL-URL:https://www.beckerbaptist.org
X-WR-CALDESC:Events for Becker Baptist Church
REFRESH-INTERVAL;VALUE=DURATION:PT1H
X-Robots-Tag:noindex
X-PUBLISHED-TTL:PT1H
BEGIN:VTIMEZONE
TZID:America/Chicago
BEGIN:DAYLIGHT
TZOFFSETFROM:-0600
TZOFFSETTO:-0500
TZNAME:CDT
DTSTART:20290311T080000
END:DAYLIGHT
BEGIN:STANDARD
TZOFFSETFROM:-0500
TZOFFSETTO:-0600
TZNAME:CST
DTSTART:20291104T070000
END:STANDARD
BEGIN:DAYLIGHT
TZOFFSETFROM:-0600
TZOFFSETTO:-0500
TZNAME:CDT
DTSTART:20300310T080000
END:DAYLIGHT
BEGIN:STANDARD
TZOFFSETFROM:-0500
TZOFFSETTO:-0600
TZNAME:CST
DTSTART:20301103T070000
END:STANDARD
BEGIN:DAYLIGHT
TZOFFSETFROM:-0600
TZOFFSETTO:-0500
TZNAME:CDT
DTSTART:20310309T080000
END:DAYLIGHT
BEGIN:STANDARD
TZOFFSETFROM:-0500
TZOFFSETTO:-0600
TZNAME:CST
DTSTART:20311102T070000
END:STANDARD
END:VTIMEZONE
BEGIN:VEVENT
DTSTART;TZID=America/Chicago:20300901T103000
DTEND;TZID=America/Chicago:20300901T113000
DTSTAMP:20260419T123500
CREATED:20240814T194656Z
LAST-MODIFIED:20250206T203453Z
UID:10021091-1914489000-1914492600@www.beckerbaptist.org
SUMMARY:WORSHIP SERVICE
DESCRIPTION:Children’s Church (age 4 – 2nd grade) meets concurrently in Room #127\, except on the first Sunday of the month\, “Family Sunday” when families worship together in the sanctuary.  Nursery is available every Sunday.
URL:https://www.beckerbaptist.org/event/worship-service-2-3/2030-09-01/
LOCATION:Sanctuary
END:VEVENT
BEGIN:VEVENT
DTSTART;TZID=America/Chicago:20300908T103000
DTEND;TZID=America/Chicago:20300908T113000
DTSTAMP:20260419T123500
CREATED:20240814T194656Z
LAST-MODIFIED:20250206T203453Z
UID:10021249-1915093800-1915097400@www.beckerbaptist.org
SUMMARY:WORSHIP SERVICE
DESCRIPTION:Children’s Church (age 4 – 2nd grade) meets concurrently in Room #127\, except on the first Sunday of the month\, “Family Sunday” when families worship together in the sanctuary.  Nursery is available every Sunday.
URL:https://www.beckerbaptist.org/event/worship-service-2-3/2030-09-08/
LOCATION:Sanctuary
END:VEVENT
BEGIN:VEVENT
DTSTART;TZID=America/Chicago:20300912T190000
DTEND;TZID=America/Chicago:20300912T200000
DTSTAMP:20260419T123500
CREATED:20251219T004106Z
LAST-MODIFIED:20251219T004107Z
UID:10021506-1915470000-1915473600@www.beckerbaptist.org
SUMMARY:Men's Bible Study
DESCRIPTION:Study with us every other Thursday at 7pm in Room #218 (just off the foyer). \nNo study guide needed — just bring your Bible!
URL:https://www.beckerbaptist.org/event/mens-bible-study-2/2030-09-12/
LOCATION:#218 (“Library”)
END:VEVENT
BEGIN:VEVENT
DTSTART;TZID=America/Chicago:20300915T103000
DTEND;TZID=America/Chicago:20300915T113000
DTSTAMP:20260419T123500
CREATED:20240814T194656Z
LAST-MODIFIED:20250206T203453Z
UID:10021524-1915698600-1915702200@www.beckerbaptist.org
SUMMARY:WORSHIP SERVICE
DESCRIPTION:Children’s Church (age 4 – 2nd grade) meets concurrently in Room #127\, except on the first Sunday of the month\, “Family Sunday” when families worship together in the sanctuary.  Nursery is available every Sunday.
URL:https://www.beckerbaptist.org/event/worship-service-2-3/2030-09-15/
LOCATION:Sanctuary
END:VEVENT
BEGIN:VEVENT
DTSTART;TZID=America/Chicago:20300922T103000
DTEND;TZID=America/Chicago:20300922T113000
DTSTAMP:20260419T123500
CREATED:20240814T194656Z
LAST-MODIFIED:20250206T203453Z
UID:10021525-1916303400-1916307000@www.beckerbaptist.org
SUMMARY:WORSHIP SERVICE
DESCRIPTION:Children’s Church (age 4 – 2nd grade) meets concurrently in Room #127\, except on the first Sunday of the month\, “Family Sunday” when families worship together in the sanctuary.  Nursery is available every Sunday.
URL:https://www.beckerbaptist.org/event/worship-service-2-3/2030-09-22/
LOCATION:Sanctuary
END:VEVENT
BEGIN:VEVENT
DTSTART;TZID=America/Chicago:20300923T080000
DTEND;TZID=America/Chicago:20300923T170000
DTSTAMP:20260419T123500
CREATED:20250119T164228Z
LAST-MODIFIED:20251207T170718Z
UID:10021527-1916380800-1916413200@www.beckerbaptist.org
SUMMARY:Becker Baptist Friends
DESCRIPTION:We spend time with our senior friends at Woodbriar Apartments in Becker with stories\, devotions\, music\, refreshments & crafts. All ages are welcome! We typically meet on the 4th Monday of each month at 2PM. Contact: Denise Chung at (763) 913-6987.
URL:https://www.beckerbaptist.org/event/becker-baptist-friends/2030-09-23/
LOCATION:Woodbriar Apts.
END:VEVENT
BEGIN:VEVENT
DTSTART;TZID=America/Chicago:20300926T190000
DTEND;TZID=America/Chicago:20300926T200000
DTSTAMP:20260419T123500
CREATED:20251219T004106Z
LAST-MODIFIED:20251219T004107Z
UID:10021528-1916679600-1916683200@www.beckerbaptist.org
SUMMARY:Men's Bible Study
DESCRIPTION:Study with us every other Thursday at 7pm in Room #218 (just off the foyer). \nNo study guide needed — just bring your Bible!
URL:https://www.beckerbaptist.org/event/mens-bible-study-2/2030-09-26/
LOCATION:#218 (“Library”)
END:VEVENT
BEGIN:VEVENT
DTSTART;TZID=America/Chicago:20300929T103000
DTEND;TZID=America/Chicago:20300929T113000
DTSTAMP:20260419T123500
CREATED:20240814T194656Z
LAST-MODIFIED:20250206T203453Z
UID:10021529-1916908200-1916911800@www.beckerbaptist.org
SUMMARY:WORSHIP SERVICE
DESCRIPTION:Children’s Church (age 4 – 2nd grade) meets concurrently in Room #127\, except on the first Sunday of the month\, “Family Sunday” when families worship together in the sanctuary.  Nursery is available every Sunday.
URL:https://www.beckerbaptist.org/event/worship-service-2-3/2030-09-29/
LOCATION:Sanctuary
END:VEVENT
END:VCALENDAR