BEGIN:VCALENDAR
VERSION:2.0
PRODID:-//Becker Baptist Church - ECPv6.15.20//NONSGML v1.0//EN
CALSCALE:GREGORIAN
METHOD:PUBLISH
X-ORIGINAL-URL:https://www.beckerbaptist.org
X-WR-CALDESC:Events for Becker Baptist Church
REFRESH-INTERVAL;VALUE=DURATION:PT1H
X-Robots-Tag:noindex
X-PUBLISHED-TTL:PT1H
BEGIN:VTIMEZONE
TZID:America/Chicago
BEGIN:DAYLIGHT
TZOFFSETFROM:-0600
TZOFFSETTO:-0500
TZNAME:CDT
DTSTART:20290311T080000
END:DAYLIGHT
BEGIN:STANDARD
TZOFFSETFROM:-0500
TZOFFSETTO:-0600
TZNAME:CST
DTSTART:20291104T070000
END:STANDARD
BEGIN:DAYLIGHT
TZOFFSETFROM:-0600
TZOFFSETTO:-0500
TZNAME:CDT
DTSTART:20300310T080000
END:DAYLIGHT
BEGIN:STANDARD
TZOFFSETFROM:-0500
TZOFFSETTO:-0600
TZNAME:CST
DTSTART:20301103T070000
END:STANDARD
BEGIN:DAYLIGHT
TZOFFSETFROM:-0600
TZOFFSETTO:-0500
TZNAME:CDT
DTSTART:20310309T080000
END:DAYLIGHT
BEGIN:STANDARD
TZOFFSETFROM:-0500
TZOFFSETTO:-0600
TZNAME:CST
DTSTART:20311102T070000
END:STANDARD
END:VTIMEZONE
BEGIN:VEVENT
DTSTART;TZID=America/Chicago:20301006T103000
DTEND;TZID=America/Chicago:20301006T113000
DTSTAMP:20260419T134853
CREATED:20240814T194656Z
LAST-MODIFIED:20250206T203453Z
UID:10021532-1917513000-1917516600@www.beckerbaptist.org
SUMMARY:WORSHIP SERVICE
DESCRIPTION:Children’s Church (age 4 – 2nd grade) meets concurrently in Room #127\, except on the first Sunday of the month\, “Family Sunday” when families worship together in the sanctuary.  Nursery is available every Sunday.
URL:https://www.beckerbaptist.org/event/worship-service-2-3/2030-10-06/
LOCATION:Sanctuary
END:VEVENT
BEGIN:VEVENT
DTSTART;TZID=America/Chicago:20301010T190000
DTEND;TZID=America/Chicago:20301010T200000
DTSTAMP:20260419T134853
CREATED:20251219T004106Z
LAST-MODIFIED:20251219T004107Z
UID:10021533-1917889200-1917892800@www.beckerbaptist.org
SUMMARY:Men's Bible Study
DESCRIPTION:Study with us every other Thursday at 7pm in Room #218 (just off the foyer). \nNo study guide needed — just bring your Bible!
URL:https://www.beckerbaptist.org/event/mens-bible-study-2/2030-10-10/
LOCATION:#218 (“Library”)
END:VEVENT
BEGIN:VEVENT
DTSTART;TZID=America/Chicago:20301013T103000
DTEND;TZID=America/Chicago:20301013T113000
DTSTAMP:20260419T134853
CREATED:20240814T194656Z
LAST-MODIFIED:20250206T203453Z
UID:10021535-1918117800-1918121400@www.beckerbaptist.org
SUMMARY:WORSHIP SERVICE
DESCRIPTION:Children’s Church (age 4 – 2nd grade) meets concurrently in Room #127\, except on the first Sunday of the month\, “Family Sunday” when families worship together in the sanctuary.  Nursery is available every Sunday.
URL:https://www.beckerbaptist.org/event/worship-service-2-3/2030-10-13/
LOCATION:Sanctuary
END:VEVENT
BEGIN:VEVENT
DTSTART;TZID=America/Chicago:20301020T103000
DTEND;TZID=America/Chicago:20301020T113000
DTSTAMP:20260419T134853
CREATED:20240814T194656Z
LAST-MODIFIED:20250206T203453Z
UID:10021546-1918722600-1918726200@www.beckerbaptist.org
SUMMARY:WORSHIP SERVICE
DESCRIPTION:Children’s Church (age 4 – 2nd grade) meets concurrently in Room #127\, except on the first Sunday of the month\, “Family Sunday” when families worship together in the sanctuary.  Nursery is available every Sunday.
URL:https://www.beckerbaptist.org/event/worship-service-2-3/2030-10-20/
LOCATION:Sanctuary
END:VEVENT
BEGIN:VEVENT
DTSTART;TZID=America/Chicago:20301024T190000
DTEND;TZID=America/Chicago:20301024T200000
DTSTAMP:20260419T134853
CREATED:20251219T004106Z
LAST-MODIFIED:20251219T004107Z
UID:10021550-1919098800-1919102400@www.beckerbaptist.org
SUMMARY:Men's Bible Study
DESCRIPTION:Study with us every other Thursday at 7pm in Room #218 (just off the foyer). \nNo study guide needed — just bring your Bible!
URL:https://www.beckerbaptist.org/event/mens-bible-study-2/2030-10-24/
LOCATION:#218 (“Library”)
END:VEVENT
BEGIN:VEVENT
DTSTART;TZID=America/Chicago:20301027T103000
DTEND;TZID=America/Chicago:20301027T113000
DTSTAMP:20260419T134853
CREATED:20240814T194656Z
LAST-MODIFIED:20250206T203453Z
UID:10021548-1919327400-1919331000@www.beckerbaptist.org
SUMMARY:WORSHIP SERVICE
DESCRIPTION:Children’s Church (age 4 – 2nd grade) meets concurrently in Room #127\, except on the first Sunday of the month\, “Family Sunday” when families worship together in the sanctuary.  Nursery is available every Sunday.
URL:https://www.beckerbaptist.org/event/worship-service-2-3/2030-10-27/
LOCATION:Sanctuary
END:VEVENT
BEGIN:VEVENT
DTSTART;TZID=America/Chicago:20301028T080000
DTEND;TZID=America/Chicago:20301028T170000
DTSTAMP:20260419T134853
CREATED:20250119T164228Z
LAST-MODIFIED:20251207T170718Z
UID:10021562-1919404800-1919437200@www.beckerbaptist.org
SUMMARY:Becker Baptist Friends
DESCRIPTION:We spend time with our senior friends at Woodbriar Apartments in Becker with stories\, devotions\, music\, refreshments & crafts. All ages are welcome! We typically meet on the 4th Monday of each month at 2PM. Contact: Denise Chung at (763) 913-6987.
URL:https://www.beckerbaptist.org/event/becker-baptist-friends/2030-10-28/
LOCATION:Woodbriar Apts.
END:VEVENT
BEGIN:VEVENT
DTSTART;VALUE=DATE:20301031
DTEND;VALUE=DATE:20301101
DTSTAMP:20260419T134853
CREATED:20241010T164612Z
LAST-MODIFIED:20241010T164612Z
UID:10021567-1919635200-1919721599@www.beckerbaptist.org
SUMMARY:Becker Baptist Church Anniversary
DESCRIPTION:
URL:https://www.beckerbaptist.org/event/becker-baptist-church-anniversary/2030-10-31/
LOCATION:MN
END:VEVENT
END:VCALENDAR