BEGIN:VCALENDAR
VERSION:2.0
PRODID:-//Becker Baptist Church - ECPv6.15.20//NONSGML v1.0//EN
CALSCALE:GREGORIAN
METHOD:PUBLISH
X-WR-CALNAME:Becker Baptist Church
X-ORIGINAL-URL:https://www.beckerbaptist.org
X-WR-CALDESC:Events for Becker Baptist Church
REFRESH-INTERVAL;VALUE=DURATION:PT1H
X-Robots-Tag:noindex
X-PUBLISHED-TTL:PT1H
BEGIN:VTIMEZONE
TZID:America/Chicago
BEGIN:DAYLIGHT
TZOFFSETFROM:-0600
TZOFFSETTO:-0500
TZNAME:CDT
DTSTART:20300310T080000
END:DAYLIGHT
BEGIN:STANDARD
TZOFFSETFROM:-0500
TZOFFSETTO:-0600
TZNAME:CST
DTSTART:20301103T070000
END:STANDARD
BEGIN:DAYLIGHT
TZOFFSETFROM:-0600
TZOFFSETTO:-0500
TZNAME:CDT
DTSTART:20310309T080000
END:DAYLIGHT
BEGIN:STANDARD
TZOFFSETFROM:-0500
TZOFFSETTO:-0600
TZNAME:CST
DTSTART:20311102T070000
END:STANDARD
BEGIN:DAYLIGHT
TZOFFSETFROM:-0600
TZOFFSETTO:-0500
TZNAME:CDT
DTSTART:20320314T080000
END:DAYLIGHT
BEGIN:STANDARD
TZOFFSETFROM:-0500
TZOFFSETTO:-0600
TZNAME:CST
DTSTART:20321107T070000
END:STANDARD
END:VTIMEZONE
BEGIN:VEVENT
DTSTART;TZID=America/Chicago:20310202T103000
DTEND;TZID=America/Chicago:20310202T113000
DTSTAMP:20260419T182754
CREATED:20240814T194656Z
LAST-MODIFIED:20250206T203453Z
UID:10021716-1927794600-1927798200@www.beckerbaptist.org
SUMMARY:WORSHIP SERVICE
DESCRIPTION:Children’s Church (age 4 – 2nd grade) meets concurrently in Room #127\, except on the first Sunday of the month\, “Family Sunday” when families worship together in the sanctuary.  Nursery is available every Sunday.
URL:https://www.beckerbaptist.org/event/worship-service-2-3/2031-02-02/
LOCATION:Sanctuary
END:VEVENT
BEGIN:VEVENT
DTSTART;TZID=America/Chicago:20310209T103000
DTEND;TZID=America/Chicago:20310209T113000
DTSTAMP:20260419T182754
CREATED:20240814T194656Z
LAST-MODIFIED:20250206T203453Z
UID:10021724-1928399400-1928403000@www.beckerbaptist.org
SUMMARY:WORSHIP SERVICE
DESCRIPTION:Children’s Church (age 4 – 2nd grade) meets concurrently in Room #127\, except on the first Sunday of the month\, “Family Sunday” when families worship together in the sanctuary.  Nursery is available every Sunday.
URL:https://www.beckerbaptist.org/event/worship-service-2-3/2031-02-09/
LOCATION:Sanctuary
END:VEVENT
BEGIN:VEVENT
DTSTART;TZID=America/Chicago:20310213T190000
DTEND;TZID=America/Chicago:20310213T200000
DTSTAMP:20260419T182754
CREATED:20251219T004106Z
LAST-MODIFIED:20251219T004107Z
UID:10021729-1928775600-1928779200@www.beckerbaptist.org
SUMMARY:Men's Bible Study
DESCRIPTION:Study with us every other Thursday at 7pm in Room #218 (just off the foyer). \nNo study guide needed — just bring your Bible!
URL:https://www.beckerbaptist.org/event/mens-bible-study-2/2031-02-13/
LOCATION:#218 (“Library”)
END:VEVENT
BEGIN:VEVENT
DTSTART;TZID=America/Chicago:20310216T103000
DTEND;TZID=America/Chicago:20310216T113000
DTSTAMP:20260419T182754
CREATED:20240814T194656Z
LAST-MODIFIED:20250206T203453Z
UID:10021727-1929004200-1929007800@www.beckerbaptist.org
SUMMARY:WORSHIP SERVICE
DESCRIPTION:Children’s Church (age 4 – 2nd grade) meets concurrently in Room #127\, except on the first Sunday of the month\, “Family Sunday” when families worship together in the sanctuary.  Nursery is available every Sunday.
URL:https://www.beckerbaptist.org/event/worship-service-2-3/2031-02-16/
LOCATION:Sanctuary
END:VEVENT
BEGIN:VEVENT
DTSTART;TZID=America/Chicago:20310223T103000
DTEND;TZID=America/Chicago:20310223T113000
DTSTAMP:20260419T182754
CREATED:20240814T194656Z
LAST-MODIFIED:20250206T203453Z
UID:10021730-1929609000-1929612600@www.beckerbaptist.org
SUMMARY:WORSHIP SERVICE
DESCRIPTION:Children’s Church (age 4 – 2nd grade) meets concurrently in Room #127\, except on the first Sunday of the month\, “Family Sunday” when families worship together in the sanctuary.  Nursery is available every Sunday.
URL:https://www.beckerbaptist.org/event/worship-service-2-3/2031-02-23/
LOCATION:Sanctuary
END:VEVENT
BEGIN:VEVENT
DTSTART;TZID=America/Chicago:20310224T080000
DTEND;TZID=America/Chicago:20310224T170000
DTSTAMP:20260419T182754
CREATED:20250119T164228Z
LAST-MODIFIED:20251207T170718Z
UID:10021734-1929686400-1929718800@www.beckerbaptist.org
SUMMARY:Becker Baptist Friends
DESCRIPTION:We spend time with our senior friends at Woodbriar Apartments in Becker with stories\, devotions\, music\, refreshments & crafts. All ages are welcome! We typically meet on the 4th Monday of each month at 2PM. Contact: Denise Chung at (763) 913-6987.
URL:https://www.beckerbaptist.org/event/becker-baptist-friends/2031-02-24/
LOCATION:Woodbriar Apts.
END:VEVENT
BEGIN:VEVENT
DTSTART;TZID=America/Chicago:20310227T190000
DTEND;TZID=America/Chicago:20310227T200000
DTSTAMP:20260419T182754
CREATED:20251219T004106Z
LAST-MODIFIED:20251219T004107Z
UID:10021737-1929985200-1929988800@www.beckerbaptist.org
SUMMARY:Men's Bible Study
DESCRIPTION:Study with us every other Thursday at 7pm in Room #218 (just off the foyer). \nNo study guide needed — just bring your Bible!
URL:https://www.beckerbaptist.org/event/mens-bible-study-2/2031-02-27/
LOCATION:#218 (“Library”)
END:VEVENT
END:VCALENDAR